BEGIN:VCALENDAR
VERSION:2.0
PRODID:-//NADI Sg Pelajau - ECPv6.15.13.1//NONSGML v1.0//EN
CALSCALE:GREGORIAN
METHOD:PUBLISH
X-WR-CALNAME:NADI Sg Pelajau
X-ORIGINAL-URL:https://sgpelajau.nadi.my
X-WR-CALDESC:Events for NADI Sg Pelajau
REFRESH-INTERVAL;VALUE=DURATION:PT1H
X-Robots-Tag:noindex
X-PUBLISHED-TTL:PT1H
BEGIN:VTIMEZONE
TZID:UTC
BEGIN:STANDARD
TZOFFSETFROM:+0000
TZOFFSETTO:+0000
TZNAME:UTC
DTSTART:20220101T000000
END:STANDARD
END:VTIMEZONE
BEGIN:VEVENT
DTSTART;TZID=UTC:20230618T140000
DTEND;TZID=UTC:20230618T160000
DTSTAMP:20260420T105501
CREATED:20230607T190257Z
LAST-MODIFIED:20230607T190257Z
UID:1418-1687096800-1687104000@sgpelajau.nadi.my
SUMMARY:MICROSOFT OFFICE: MICROSOFT WORD
DESCRIPTION:
URL:https://sgpelajau.nadi.my/event/microsoft-office-microsoft-word-2/
LOCATION:PEDi Sungai Pelajau\, PEDi Sungai Pelajau
CATEGORIES:DEFAULT
END:VEVENT
BEGIN:VEVENT
DTSTART;TZID=UTC:20230612T140000
DTEND;TZID=UTC:20230612T160000
DTSTAMP:20260420T105501
CREATED:20230607T190213Z
LAST-MODIFIED:20230607T190213Z
UID:1417-1686578400-1686585600@sgpelajau.nadi.my
SUMMARY:KDB: GROOMING
DESCRIPTION:
URL:https://sgpelajau.nadi.my/event/kdb-grooming-2/
LOCATION:PEDi Sungai Pelajau\, PEDi Sungai Pelajau
CATEGORIES:DEFAULT
END:VEVENT
BEGIN:VEVENT
DTSTART;TZID=UTC:20230607T140000
DTEND;TZID=UTC:20230607T160000
DTSTAMP:20260420T105501
CREATED:20230607T190140Z
LAST-MODIFIED:20230607T190140Z
UID:1416-1686146400-1686153600@sgpelajau.nadi.my
SUMMARY:LATIHAN KEUSAHAWANAN: SUNTINGAN IMEJ
DESCRIPTION:
URL:https://sgpelajau.nadi.my/event/latihan-keusahawanan-suntingan-imej-2/
LOCATION:PEDi Sungai Pelajau\, PEDi Sungai Pelajau
CATEGORIES:DEFAULT
END:VEVENT
BEGIN:VEVENT
DTSTART;TZID=UTC:20230603T140000
DTEND;TZID=UTC:20230603T160000
DTSTAMP:20260420T105501
CREATED:20230607T190726Z
LAST-MODIFIED:20230607T190726Z
UID:1421-1685800800-1685808000@sgpelajau.nadi.my
SUMMARY:KDB: PENIPUAN KEWANGAN
DESCRIPTION:
URL:https://sgpelajau.nadi.my/event/kdb-penipuan-kewangan-3/
LOCATION:PEDi Sungai Pelajau\, PEDi Sungai Pelajau
CATEGORIES:DEFAULT
END:VEVENT
BEGIN:VEVENT
DTSTART;TZID=UTC:20230603T140000
DTEND;TZID=UTC:20230603T160000
DTSTAMP:20260420T105501
CREATED:20230607T190046Z
LAST-MODIFIED:20230607T190046Z
UID:1415-1685800800-1685808000@sgpelajau.nadi.my
SUMMARY:KDB: PENIPUAN KEWANGAN
DESCRIPTION:
URL:https://sgpelajau.nadi.my/event/kdb-penipuan-kewangan-2/
LOCATION:PEDi Sungai Pelajau\, PEDi Sungai Pelajau
CATEGORIES:DEFAULT
END:VEVENT
BEGIN:VEVENT
DTSTART;TZID=UTC:20230526T140000
DTEND;TZID=UTC:20230526T160000
DTSTAMP:20260420T105501
CREATED:20230501T163148Z
LAST-MODIFIED:20230501T163148Z
UID:1414-1685109600-1685116800@sgpelajau.nadi.my
SUMMARY:MICROSOFT OFFICE: MICROSOFT WORD
DESCRIPTION:
URL:https://sgpelajau.nadi.my/event/microsoft-office-microsoft-word/
LOCATION:PEDi Sungai Pelajau\, PEDi Sungai Pelajau
CATEGORIES:DEFAULT
END:VEVENT
BEGIN:VEVENT
DTSTART;TZID=UTC:20230519T140000
DTEND;TZID=UTC:20230519T160000
DTSTAMP:20260420T105501
CREATED:20230501T163100Z
LAST-MODIFIED:20230501T163100Z
UID:1413-1684504800-1684512000@sgpelajau.nadi.my
SUMMARY:LATIHAN KEUSAHAWANAN: LATIHAN ASAS MEDIA BARU (CANVA)
DESCRIPTION:
URL:https://sgpelajau.nadi.my/event/latihan-keusahawanan-latihan-asas-media-baru-canva/
LOCATION:PEDi Sungai Pelajau\, PEDi Sungai Pelajau
CATEGORIES:DEFAULT
END:VEVENT
BEGIN:VEVENT
DTSTART;TZID=UTC:20230515T140000
DTEND;TZID=UTC:20230515T160000
DTSTAMP:20260420T105501
CREATED:20230501T163012Z
LAST-MODIFIED:20230501T163012Z
UID:1412-1684159200-1684166400@sgpelajau.nadi.my
SUMMARY:KDB: BULI CYBER
DESCRIPTION:
URL:https://sgpelajau.nadi.my/event/kdb-buli-cyber-2/
LOCATION:PEDi Sungai Pelajau\, PEDi Sungai Pelajau
CATEGORIES:DEFAULT
END:VEVENT
BEGIN:VEVENT
DTSTART;TZID=UTC:20230512T140000
DTEND;TZID=UTC:20230512T160000
DTSTAMP:20260420T105501
CREATED:20230501T162922Z
LAST-MODIFIED:20230501T162922Z
UID:1411-1683900000-1683907200@sgpelajau.nadi.my
SUMMARY:LATIHAN KEUSAHAWANAN: PEMASARAN DALAM TALIAN (PRUDENTIAL)
DESCRIPTION:
URL:https://sgpelajau.nadi.my/event/latihan-keusahawanan-pemasaran-dalam-talian-prudential/
LOCATION:PEDi Sungai Pelajau\, PEDi Sungai Pelajau
CATEGORIES:DEFAULT
END:VEVENT
BEGIN:VEVENT
DTSTART;TZID=UTC:20230508T140000
DTEND;TZID=UTC:20230508T160000
DTSTAMP:20260420T105501
CREATED:20230501T162814Z
LAST-MODIFIED:20230501T162814Z
UID:1410-1683554400-1683561600@sgpelajau.nadi.my
SUMMARY:ASAS TEKNOLOGI MAKLUMAT DAN KOMUNIKASI: EMEL
DESCRIPTION:
URL:https://sgpelajau.nadi.my/event/asas-teknologi-maklumat-dan-komunikasi-emel-3/
LOCATION:PEDi Sungai Pelajau\, PEDi Sungai Pelajau
CATEGORIES:DEFAULT
END:VEVENT
BEGIN:VEVENT
DTSTART;TZID=UTC:20230502T140000
DTEND;TZID=UTC:20230502T160000
DTSTAMP:20260420T105501
CREATED:20230501T162724Z
LAST-MODIFIED:20230501T162724Z
UID:1409-1683036000-1683043200@sgpelajau.nadi.my
SUMMARY:KDB: ASPIRASI DIGITAL
DESCRIPTION:
URL:https://sgpelajau.nadi.my/event/kdb-aspirasi-digital-2/
LOCATION:PEDi Sungai Pelajau\, PEDi Sungai Pelajau
CATEGORIES:DEFAULT
END:VEVENT
BEGIN:VEVENT
DTSTART;TZID=UTC:20230424T140000
DTEND;TZID=UTC:20230424T160000
DTSTAMP:20260420T105501
CREATED:20230323T174736Z
LAST-MODIFIED:20230323T174736Z
UID:1408-1682344800-1682352000@sgpelajau.nadi.my
SUMMARY:PERISIAN KOMPUTER: OPERATING SYSTEM
DESCRIPTION:
URL:https://sgpelajau.nadi.my/event/perisian-komputer-operating-system-2/
LOCATION:PEDi Sungai Pelajau\, PEDi Sungai Pelajau
CATEGORIES:DEFAULT
END:VEVENT
BEGIN:VEVENT
DTSTART;TZID=UTC:20230423T140000
DTEND;TZID=UTC:20230423T160000
DTSTAMP:20260420T105501
CREATED:20230323T174636Z
LAST-MODIFIED:20230323T174636Z
UID:1407-1682258400-1682265600@sgpelajau.nadi.my
SUMMARY:LATIHAN KEUSAHAWANAN: E - PEROLEHAN
DESCRIPTION:
URL:https://sgpelajau.nadi.my/event/latihan-keusahawanan-e-perolehan/
LOCATION:PEDi Sungai Pelajau\, PEDi Sungai Pelajau
CATEGORIES:DEFAULT
END:VEVENT
BEGIN:VEVENT
DTSTART;TZID=UTC:20230420T140000
DTEND;TZID=UTC:20230420T160000
DTSTAMP:20260420T105501
CREATED:20230323T174545Z
LAST-MODIFIED:20230323T174545Z
UID:1406-1681999200-1682006400@sgpelajau.nadi.my
SUMMARY:KDB 3: ASPIRASI DIGITAL
DESCRIPTION:
URL:https://sgpelajau.nadi.my/event/kdb-3-aspirasi-digital/
LOCATION:PEDi Sungai Pelajau\, PEDi Sungai Pelajau
CATEGORIES:DEFAULT
END:VEVENT
BEGIN:VEVENT
DTSTART;TZID=UTC:20230418T140000
DTEND;TZID=UTC:20230418T160000
DTSTAMP:20260420T105501
CREATED:20230323T174456Z
LAST-MODIFIED:20230323T174456Z
UID:1405-1681826400-1681833600@sgpelajau.nadi.my
SUMMARY:MICROSOFT OFFICE: MICROSOFT POWERPOINT
DESCRIPTION:
URL:https://sgpelajau.nadi.my/event/microsoft-office-microsoft-powerpoint/
LOCATION:PEDi Sungai Pelajau\, PEDi Sungai Pelajau
CATEGORIES:DEFAULT
END:VEVENT
BEGIN:VEVENT
DTSTART;TZID=UTC:20230412T140000
DTEND;TZID=UTC:20230412T160000
DTSTAMP:20260420T105501
CREATED:20230323T174415Z
LAST-MODIFIED:20230323T174415Z
UID:1404-1681308000-1681315200@sgpelajau.nadi.my
SUMMARY:KDB 2: ADUAN DAN MAKLUMAT PALSU
DESCRIPTION:
URL:https://sgpelajau.nadi.my/event/kdb-2-aduan-dan-maklumat-palsu/
LOCATION:PEDi Sungai Pelajau\, PEDi Sungai Pelajau
CATEGORIES:DEFAULT
END:VEVENT
BEGIN:VEVENT
DTSTART;TZID=UTC:20230410T140000
DTEND;TZID=UTC:20230410T160000
DTSTAMP:20260420T105501
CREATED:20230323T174303Z
LAST-MODIFIED:20230323T174303Z
UID:1403-1681135200-1681142400@sgpelajau.nadi.my
SUMMARY:LATIHAN KEUSAHAWANAN: SUNTINGAN IMEJ
DESCRIPTION:
URL:https://sgpelajau.nadi.my/event/latihan-keusahawanan-suntingan-imej/
LOCATION:PEDi Sungai Pelajau\, PEDi Sungai Pelajau
CATEGORIES:DEFAULT
END:VEVENT
BEGIN:VEVENT
DTSTART;TZID=UTC:20230406T140000
DTEND;TZID=UTC:20230406T160000
DTSTAMP:20260420T105501
CREATED:20230323T174222Z
LAST-MODIFIED:20230323T174222Z
UID:1402-1680789600-1680796800@sgpelajau.nadi.my
SUMMARY:KDB 1: TEKNOLOGI DAN ANDA
DESCRIPTION:
URL:https://sgpelajau.nadi.my/event/kdb-1-teknologi-dan-anda-2/
LOCATION:PEDi Sungai Pelajau\, PEDi Sungai Pelajau
CATEGORIES:DEFAULT
END:VEVENT
BEGIN:VEVENT
DTSTART;TZID=UTC:20230328T140000
DTEND;TZID=UTC:20230328T160000
DTSTAMP:20260420T105501
CREATED:20230306T183039Z
LAST-MODIFIED:20230306T183039Z
UID:1401-1680012000-1680019200@sgpelajau.nadi.my
SUMMARY:LATIHAN KEUSAHAWANAN: PEMASARAN DALAM TALIAN
DESCRIPTION:
URL:https://sgpelajau.nadi.my/event/latihan-keusahawanan-pemasaran-dalam-talian/
LOCATION:PEDi Sungai Pelajau\, PEDi Sungai Pelajau
CATEGORIES:DEFAULT
END:VEVENT
BEGIN:VEVENT
DTSTART;TZID=UTC:20230322T140000
DTEND;TZID=UTC:20230322T160000
DTSTAMP:20260420T105501
CREATED:20230306T182954Z
LAST-MODIFIED:20230306T182954Z
UID:1400-1679493600-1679500800@sgpelajau.nadi.my
SUMMARY:KDB: GROOMING
DESCRIPTION:
URL:https://sgpelajau.nadi.my/event/kdb-grooming/
LOCATION:PEDi Sungai Pelajau\, PEDi Sungai Pelajau
CATEGORIES:DEFAULT
END:VEVENT
BEGIN:VEVENT
DTSTART;TZID=UTC:20230318T140000
DTEND;TZID=UTC:20230318T170000
DTSTAMP:20260420T105501
CREATED:20230306T182919Z
LAST-MODIFIED:20230306T182919Z
UID:1399-1679148000-1679158800@sgpelajau.nadi.my
SUMMARY:ASAS TEKNOLOGI MAKLUMAT DAN KOMUNIKASI: PENGENALAN KEPADA KOMPUTER
DESCRIPTION:
URL:https://sgpelajau.nadi.my/event/asas-teknologi-maklumat-dan-komunikasi-pengenalan-kepada-komputer-2/
LOCATION:PEDi Sungai Pelajau\, PEDi Sungai Pelajau
CATEGORIES:DEFAULT
END:VEVENT
BEGIN:VEVENT
DTSTART;TZID=UTC:20230315T140000
DTEND;TZID=UTC:20230315T160000
DTSTAMP:20260420T105501
CREATED:20230306T182810Z
LAST-MODIFIED:20230306T182810Z
UID:1398-1678888800-1678896000@sgpelajau.nadi.my
SUMMARY:KDB: MOBILE E-WASTE
DESCRIPTION:
URL:https://sgpelajau.nadi.my/event/kdb-mobile-e-waste-2/
LOCATION:PEDi Sungai Pelajau\, PEDi Sungai Pelajau
CATEGORIES:DEFAULT
END:VEVENT
BEGIN:VEVENT
DTSTART;TZID=UTC:20230311T140000
DTEND;TZID=UTC:20230311T160000
DTSTAMP:20260420T105501
CREATED:20230306T182638Z
LAST-MODIFIED:20230306T182638Z
UID:1397-1678543200-1678550400@sgpelajau.nadi.my
SUMMARY:LATIHAN KEUSAHAWANAN: KEMAHIRAN KEUSAHAWAN
DESCRIPTION:
URL:https://sgpelajau.nadi.my/event/latihan-keusahawanan-kemahiran-keusahawan/
LOCATION:PEDi Sungai Pelajau\, PEDi Sungai Pelajau
CATEGORIES:DEFAULT
END:VEVENT
BEGIN:VEVENT
DTSTART;TZID=UTC:20230306T140000
DTEND;TZID=UTC:20230306T160000
DTSTAMP:20260420T105501
CREATED:20230306T182000Z
LAST-MODIFIED:20230306T182000Z
UID:1396-1678111200-1678118400@sgpelajau.nadi.my
SUMMARY:MICROSOFT OFFICE: WORD
DESCRIPTION:
URL:https://sgpelajau.nadi.my/event/microsoft-office-word-9/
LOCATION:PEDi Sungai Pelajau\, PEDi Sungai Pelajau
CATEGORIES:DEFAULT
END:VEVENT
BEGIN:VEVENT
DTSTART;TZID=UTC:20230303T140000
DTEND;TZID=UTC:20230303T160000
DTSTAMP:20260420T105501
CREATED:20230306T181911Z
LAST-MODIFIED:20230306T181911Z
UID:1394-1677852000-1677859200@sgpelajau.nadi.my
SUMMARY:KDB: CHECK YOUR LABEL
DESCRIPTION:
URL:https://sgpelajau.nadi.my/event/kdb-check-your-label-2/
LOCATION:PEDi Sungai Pelajau\, PEDi Sungai Pelajau
CATEGORIES:DEFAULT
END:VEVENT
BEGIN:VEVENT
DTSTART;TZID=UTC:20230303T140000
DTEND;TZID=UTC:20230303T160000
DTSTAMP:20260420T105501
CREATED:20230306T181911Z
LAST-MODIFIED:20230306T181911Z
UID:1395-1677852000-1677859200@sgpelajau.nadi.my
SUMMARY:KDB: CHECK YOUR LABEL
DESCRIPTION:
URL:https://sgpelajau.nadi.my/event/kdb-check-your-label-3/
LOCATION:PEDi Sungai Pelajau\, PEDi Sungai Pelajau
CATEGORIES:DEFAULT
END:VEVENT
BEGIN:VEVENT
DTSTART;TZID=UTC:20230227T140000
DTEND;TZID=UTC:20230227T160000
DTSTAMP:20260420T105501
CREATED:20230207T001815Z
LAST-MODIFIED:20230207T001815Z
UID:1393-1677506400-1677513600@sgpelajau.nadi.my
SUMMARY:E-DAGANG: KEMAHIRAN USAHAWAN
DESCRIPTION:
URL:https://sgpelajau.nadi.my/event/e-dagang-kemahiran-usahawan/
LOCATION:PEDi Sungai Pelajau\, PEDi Sungai Pelajau
CATEGORIES:DEFAULT
END:VEVENT
BEGIN:VEVENT
DTSTART;TZID=UTC:20230225T140000
DTEND;TZID=UTC:20230225T160000
DTSTAMP:20260420T105501
CREATED:20230207T001718Z
LAST-MODIFIED:20230207T001718Z
UID:1392-1677333600-1677340800@sgpelajau.nadi.my
SUMMARY:KDB: PENIPUAN KEWANGAN
DESCRIPTION:
URL:https://sgpelajau.nadi.my/event/kdb-penipuan-kewangan/
LOCATION:PEDi Sungai Pelajau\, PEDi Sungai Pelajau
CATEGORIES:DEFAULT
END:VEVENT
BEGIN:VEVENT
DTSTART;TZID=UTC:20230221T140000
DTEND;TZID=UTC:20230221T160000
DTSTAMP:20260420T105501
CREATED:20230207T001437Z
LAST-MODIFIED:20230207T001437Z
UID:1391-1676988000-1676995200@sgpelajau.nadi.my
SUMMARY:PERKAKASAN KOMPUTER/PC HARDWARE: BAIKPULIH KOMPUTER
DESCRIPTION:
URL:https://sgpelajau.nadi.my/event/perkakasan-komputer-pc-hardware-baikpulih-komputer/
LOCATION:PEDi Sungai Pelajau\, PEDi Sungai Pelajau
CATEGORIES:DEFAULT
END:VEVENT
BEGIN:VEVENT
DTSTART;TZID=UTC:20230219T140000
DTEND;TZID=UTC:20230219T160000
DTSTAMP:20260420T105501
CREATED:20230207T001323Z
LAST-MODIFIED:20230207T001323Z
UID:1390-1676815200-1676822400@sgpelajau.nadi.my
SUMMARY:KDB: ASPIRASI DIGITAL
DESCRIPTION:
URL:https://sgpelajau.nadi.my/event/kdb-aspirasi-digital/
LOCATION:PEDi Sungai Pelajau\, PEDi Sungai Pelajau
CATEGORIES:DEFAULT
END:VEVENT
END:VCALENDAR